BEGIN:VCALENDAR
VERSION:2.0
PRODID:-//SAGE AND YLANG - ECPv6.15.20//NONSGML v1.0//EN
CALSCALE:GREGORIAN
METHOD:PUBLISH
X-ORIGINAL-URL:https://sageandylang.com
X-WR-CALDESC:Events for SAGE AND YLANG
REFRESH-INTERVAL;VALUE=DURATION:PT1H
X-Robots-Tag:noindex
X-PUBLISHED-TTL:PT1H
BEGIN:VTIMEZONE
TZID:Asia/Singapore
BEGIN:STANDARD
TZOFFSETFROM:+0800
TZOFFSETTO:+0800
TZNAME:+08
DTSTART:20240101T000000
END:STANDARD
END:VTIMEZONE
BEGIN:VEVENT
DTSTART;VALUE=DATE:20250925
DTEND;VALUE=DATE:20250926
DTSTAMP:20260426T073505
CREATED:20250915T051311Z
LAST-MODIFIED:20260123T031828Z
UID:16033-1758758400-1758844799@sageandylang.com
SUMMARY:Women of the Channel Leadership Summit Asia 2025
DESCRIPTION:Women of the Channel Leadership Summit Asia 2025 \nWomen of the Channel Leadership Summit Asia 2025\nDate: September 25\, 2025Venue: JW Marriott\, Singapore \nWe are proud to announce that our founder\, Irene Chong\, has been invited as a Keynote Speaker at the prestigious Women of the Channel Leadership Summit Asia. \nThis annual summit brings together senior leaders\, visionaries\, and innovators across industries to discuss leadership\, business growth\, and the future of technology and commerce. \nAs the founder of Sage & Ylang\, Irene will be sharing her journey of building a minimalist\, mindful\, and microbiome-friendly beauty brand—and how intentional beauty can inspire both confidence and wellness in today’s fast-paced world. \nThis event is a celebration of women in leadership and a platform to connect\, learn\, and create meaningful change. \nAbout the Summit:The Women of the Channel Leadership Summit Asia\, organized by The Channel Company\, is a premier event that provides insight\, strategies\, and networking opportunities for women executives and emerging leaders in the technology and business ecosystem.
URL:https://sageandylang.com/event/wotc/
LOCATION:JW Marriott\, Singapore\, 30 Beach Road\, Nicoll Hwy\, Access via\, Singapore 189763\, Singapore\, Singapore\, 189763\, Singapore
CATEGORIES:Singapore
END:VEVENT
END:VCALENDAR